BEGIN:VCALENDAR
VERSION:2.0
PRODID:-//Highlands County Democratic Executive Committee - ECPv6.15.20//NONSGML v1.0//EN
CALSCALE:GREGORIAN
METHOD:PUBLISH
X-ORIGINAL-URL:https://democraticpartyofhcfl.org
X-WR-CALDESC:Events for Highlands County Democratic Executive Committee
REFRESH-INTERVAL;VALUE=DURATION:PT1H
X-Robots-Tag:noindex
X-PUBLISHED-TTL:PT1H
BEGIN:VTIMEZONE
TZID:America/Halifax
BEGIN:DAYLIGHT
TZOFFSETFROM:-0400
TZOFFSETTO:-0300
TZNAME:ADT
DTSTART:20290311T060000
END:DAYLIGHT
BEGIN:STANDARD
TZOFFSETFROM:-0300
TZOFFSETTO:-0400
TZNAME:AST
DTSTART:20291104T050000
END:STANDARD
BEGIN:DAYLIGHT
TZOFFSETFROM:-0400
TZOFFSETTO:-0300
TZNAME:ADT
DTSTART:20300310T060000
END:DAYLIGHT
BEGIN:STANDARD
TZOFFSETFROM:-0300
TZOFFSETTO:-0400
TZNAME:AST
DTSTART:20301103T050000
END:STANDARD
BEGIN:DAYLIGHT
TZOFFSETFROM:-0400
TZOFFSETTO:-0300
TZNAME:ADT
DTSTART:20310309T060000
END:DAYLIGHT
BEGIN:STANDARD
TZOFFSETFROM:-0300
TZOFFSETTO:-0400
TZNAME:AST
DTSTART:20311102T050000
END:STANDARD
END:VTIMEZONE
BEGIN:VEVENT
DTSTART;TZID=America/Halifax:20300209T100000
DTEND;TZID=America/Halifax:20300209T113000
DTSTAMP:20260420T154706
CREATED:20250619T101037Z
LAST-MODIFIED:20250619T102356Z
UID:10000100-1896861600-1896867000@democraticpartyofhcfl.org
SUMMARY:DEC Meeting
DESCRIPTION:
URL:https://democraticpartyofhcfl.org/event/dec-meeting/2030-02-09/
LOCATION:Highlands County Democratic Headquarters\, 4216 Sebring Pkwy\, Sebring\, FL\, 33870\, United States
END:VEVENT
BEGIN:VEVENT
DTSTART;TZID=America/Halifax:20300209T100000
DTEND;TZID=America/Halifax:20300209T130000
DTSTAMP:20260420T154706
CREATED:20260402T100538Z
LAST-MODIFIED:20260402T105313Z
UID:10000474-1896861600-1896872400@democraticpartyofhcfl.org
SUMMARY:Democratic Executive Committee and General Meeting Agenda
DESCRIPTION:Microsoft Teams \nJoin the meeting now \nMeeting ID: 284 911 588 565 \nPasscode: 686vi3Gx
URL:https://democraticpartyofhcfl.org/event/general-meeting-4/2030-02-09/
LOCATION:Highlands County Democratic Headquarters\, 4216 Sebring Pkwy\, Sebring\, FL\, 33870\, United States
CATEGORIES:Events
END:VEVENT
BEGIN:VEVENT
DTSTART;TZID=America/Halifax:20300209T113000
DTEND;TZID=America/Halifax:20300209T130000
DTSTAMP:20260420T154706
CREATED:20250421T131516Z
LAST-MODIFIED:20250619T102033Z
UID:10000160-1896867000-1896872400@democraticpartyofhcfl.org
SUMMARY:General Meeting
DESCRIPTION:Speaker: TBA\n  \nMicrosoft Teams \nJoin the meeting now \nMeeting ID: 284 911 588 565 \nPasscode: 686vi3Gx
URL:https://democraticpartyofhcfl.org/event/general-meeting/2030-02-09/
LOCATION:Highlands County Democratic Headquarters\, 4216 Sebring Pkwy\, Sebring\, FL\, 33870\, United States
END:VEVENT
END:VCALENDAR