BEGIN:VCALENDAR
VERSION:2.0
PRODID:-//Highlands County Democratic Executive Committee - ECPv6.15.20//NONSGML v1.0//EN
CALSCALE:GREGORIAN
METHOD:PUBLISH
X-ORIGINAL-URL:https://democraticpartyofhcfl.org
X-WR-CALDESC:Events for Highlands County Democratic Executive Committee
REFRESH-INTERVAL;VALUE=DURATION:PT1H
X-Robots-Tag:noindex
X-PUBLISHED-TTL:PT1H
BEGIN:VTIMEZONE
TZID:America/Halifax
BEGIN:DAYLIGHT
TZOFFSETFROM:-0400
TZOFFSETTO:-0300
TZNAME:ADT
DTSTART:20290311T060000
END:DAYLIGHT
BEGIN:STANDARD
TZOFFSETFROM:-0300
TZOFFSETTO:-0400
TZNAME:AST
DTSTART:20291104T050000
END:STANDARD
BEGIN:DAYLIGHT
TZOFFSETFROM:-0400
TZOFFSETTO:-0300
TZNAME:ADT
DTSTART:20300310T060000
END:DAYLIGHT
BEGIN:STANDARD
TZOFFSETFROM:-0300
TZOFFSETTO:-0400
TZNAME:AST
DTSTART:20301103T050000
END:STANDARD
BEGIN:DAYLIGHT
TZOFFSETFROM:-0400
TZOFFSETTO:-0300
TZNAME:ADT
DTSTART:20310309T060000
END:DAYLIGHT
BEGIN:STANDARD
TZOFFSETFROM:-0300
TZOFFSETTO:-0400
TZNAME:AST
DTSTART:20311102T050000
END:STANDARD
END:VTIMEZONE
BEGIN:VEVENT
DTSTART;TZID=America/Halifax:20300810T100000
DTEND;TZID=America/Halifax:20300810T130000
DTSTAMP:20260421T061934
CREATED:20260402T100538Z
LAST-MODIFIED:20260402T105313Z
UID:10000480-1912586400-1912597200@democraticpartyofhcfl.org
SUMMARY:Democratic Executive Committee and General Meeting Agenda
DESCRIPTION:Microsoft Teams \nJoin the meeting now \nMeeting ID: 284 911 588 565 \nPasscode: 686vi3Gx
URL:https://democraticpartyofhcfl.org/event/general-meeting-4/2030-08-10/
LOCATION:Highlands County Democratic Headquarters\, 4216 Sebring Pkwy\, Sebring\, FL\, 33870\, United States
CATEGORIES:Events
END:VEVENT
BEGIN:VEVENT
DTSTART;TZID=America/Halifax:20300810T113000
DTEND;TZID=America/Halifax:20300810T130000
DTSTAMP:20260421T061934
CREATED:20250421T131516Z
LAST-MODIFIED:20250619T102033Z
UID:10000234-1912591800-1912597200@democraticpartyofhcfl.org
SUMMARY:General Meeting
DESCRIPTION:Speaker: TBA\n  \nMicrosoft Teams \nJoin the meeting now \nMeeting ID: 284 911 588 565 \nPasscode: 686vi3Gx
URL:https://democraticpartyofhcfl.org/event/general-meeting/2030-08-10/
LOCATION:Highlands County Democratic Headquarters\, 4216 Sebring Pkwy\, Sebring\, FL\, 33870\, United States
END:VEVENT
BEGIN:VEVENT
DTSTART;TZID=America/Halifax:20300813T180000
DTEND;TZID=America/Halifax:20300813T190000
DTSTAMP:20260421T061934
CREATED:20260122T130354Z
LAST-MODIFIED:20260122T132718Z
UID:10000296-1912874400-1912878000@democraticpartyofhcfl.org
SUMMARY:Friendly Faces
DESCRIPTION:
URL:https://democraticpartyofhcfl.org/event/friendly-faces/2030-08-13/
LOCATION:Highlands County Democratic Headquarters\, 4216 Sebring Pkwy\, Sebring\, FL\, 33870\, United States
CATEGORIES:Events
END:VEVENT
BEGIN:VEVENT
DTSTART;TZID=America/Halifax:20300815T180000
DTEND;TZID=America/Halifax:20300815T190000
DTSTAMP:20260421T061934
CREATED:20260122T135343Z
LAST-MODIFIED:20260122T135343Z
UID:10000356-1913047200-1913050800@democraticpartyofhcfl.org
SUMMARY:Young Democrats
DESCRIPTION:
URL:https://democraticpartyofhcfl.org/event/young-democrats/2030-08-15/
LOCATION:Highlands County Democratic Headquarters\, 4216 Sebring Pkwy\, Sebring\, FL\, 33870\, United States
CATEGORIES:Events
END:VEVENT
BEGIN:VEVENT
DTSTART;TZID=America/Halifax:20300824T160000
DTEND;TZID=America/Halifax:20300824T180000
DTSTAMP:20260421T061934
CREATED:20260122T140302Z
LAST-MODIFIED:20260122T140302Z
UID:10000417-1913817600-1913824800@democraticpartyofhcfl.org
SUMMARY:Open House
DESCRIPTION:
URL:https://democraticpartyofhcfl.org/event/open-house/2030-08-24/
LOCATION:Highlands County Democratic Headquarters\, 4216 Sebring Pkwy\, Sebring\, FL\, 33870\, United States
CATEGORIES:Events
END:VEVENT
END:VCALENDAR