BEGIN:VCALENDAR
VERSION:2.0
PRODID:-//Highlands County Democratic Executive Committee - ECPv6.15.20//NONSGML v1.0//EN
CALSCALE:GREGORIAN
METHOD:PUBLISH
X-WR-CALNAME:Highlands County Democratic Executive Committee
X-ORIGINAL-URL:https://democraticpartyofhcfl.org
X-WR-CALDESC:Events for Highlands County Democratic Executive Committee
REFRESH-INTERVAL;VALUE=DURATION:PT1H
X-Robots-Tag:noindex
X-PUBLISHED-TTL:PT1H
BEGIN:VTIMEZONE
TZID:America/Halifax
BEGIN:DAYLIGHT
TZOFFSETFROM:-0400
TZOFFSETTO:-0300
TZNAME:ADT
DTSTART:20250309T060000
END:DAYLIGHT
BEGIN:STANDARD
TZOFFSETFROM:-0300
TZOFFSETTO:-0400
TZNAME:AST
DTSTART:20251102T050000
END:STANDARD
BEGIN:DAYLIGHT
TZOFFSETFROM:-0400
TZOFFSETTO:-0300
TZNAME:ADT
DTSTART:20260308T060000
END:DAYLIGHT
BEGIN:STANDARD
TZOFFSETFROM:-0300
TZOFFSETTO:-0400
TZNAME:AST
DTSTART:20261101T050000
END:STANDARD
BEGIN:DAYLIGHT
TZOFFSETFROM:-0400
TZOFFSETTO:-0300
TZNAME:ADT
DTSTART:20270314T060000
END:DAYLIGHT
BEGIN:STANDARD
TZOFFSETFROM:-0300
TZOFFSETTO:-0400
TZNAME:AST
DTSTART:20271107T050000
END:STANDARD
BEGIN:DAYLIGHT
TZOFFSETFROM:-0400
TZOFFSETTO:-0300
TZNAME:ADT
DTSTART:20280312T060000
END:DAYLIGHT
BEGIN:STANDARD
TZOFFSETFROM:-0300
TZOFFSETTO:-0400
TZNAME:AST
DTSTART:20281105T050000
END:STANDARD
BEGIN:DAYLIGHT
TZOFFSETFROM:-0400
TZOFFSETTO:-0300
TZNAME:ADT
DTSTART:20290311T060000
END:DAYLIGHT
BEGIN:STANDARD
TZOFFSETFROM:-0300
TZOFFSETTO:-0400
TZNAME:AST
DTSTART:20291104T050000
END:STANDARD
END:VTIMEZONE
BEGIN:VEVENT
DTSTART;TZID=America/Halifax:20260509T100000
DTEND;TZID=America/Halifax:20260509T113000
DTSTAMP:20260424T020636
CREATED:20250619T101037Z
LAST-MODIFIED:20250619T102356Z
UID:10000055-1778320800-1778326200@democraticpartyofhcfl.org
SUMMARY:DEC Meeting
DESCRIPTION:
URL:https://democraticpartyofhcfl.org/event/dec-meeting/2026-05-09/
LOCATION:Highlands County Democratic Headquarters\, 4216 Sebring Pkwy\, Sebring\, FL\, 33870\, United States
END:VEVENT
BEGIN:VEVENT
DTSTART;TZID=America/Halifax:20260613T100000
DTEND;TZID=America/Halifax:20260613T113000
DTSTAMP:20260424T020636
CREATED:20250619T101037Z
LAST-MODIFIED:20250619T102356Z
UID:10000056-1781344800-1781350200@democraticpartyofhcfl.org
SUMMARY:DEC Meeting
DESCRIPTION:
URL:https://democraticpartyofhcfl.org/event/dec-meeting/2026-06-13/
LOCATION:Highlands County Democratic Headquarters\, 4216 Sebring Pkwy\, Sebring\, FL\, 33870\, United States
END:VEVENT
BEGIN:VEVENT
DTSTART;TZID=America/Halifax:20260711T100000
DTEND;TZID=America/Halifax:20260711T113000
DTSTAMP:20260424T020636
CREATED:20250619T101037Z
LAST-MODIFIED:20250619T102356Z
UID:10000057-1783764000-1783769400@democraticpartyofhcfl.org
SUMMARY:DEC Meeting
DESCRIPTION:
URL:https://democraticpartyofhcfl.org/event/dec-meeting/2026-07-11/
LOCATION:Highlands County Democratic Headquarters\, 4216 Sebring Pkwy\, Sebring\, FL\, 33870\, United States
END:VEVENT
BEGIN:VEVENT
DTSTART;TZID=America/Halifax:20260808T100000
DTEND;TZID=America/Halifax:20260808T113000
DTSTAMP:20260424T020636
CREATED:20250619T101037Z
LAST-MODIFIED:20250619T102356Z
UID:10000058-1786183200-1786188600@democraticpartyofhcfl.org
SUMMARY:DEC Meeting
DESCRIPTION:
URL:https://democraticpartyofhcfl.org/event/dec-meeting/2026-08-08/
LOCATION:Highlands County Democratic Headquarters\, 4216 Sebring Pkwy\, Sebring\, FL\, 33870\, United States
END:VEVENT
BEGIN:VEVENT
DTSTART;TZID=America/Halifax:20260912T100000
DTEND;TZID=America/Halifax:20260912T113000
DTSTAMP:20260424T020636
CREATED:20250619T101037Z
LAST-MODIFIED:20250619T102356Z
UID:10000059-1789207200-1789212600@democraticpartyofhcfl.org
SUMMARY:DEC Meeting
DESCRIPTION:
URL:https://democraticpartyofhcfl.org/event/dec-meeting/2026-09-12/
LOCATION:Highlands County Democratic Headquarters\, 4216 Sebring Pkwy\, Sebring\, FL\, 33870\, United States
END:VEVENT
BEGIN:VEVENT
DTSTART;TZID=America/Halifax:20261010T100000
DTEND;TZID=America/Halifax:20261010T113000
DTSTAMP:20260424T020636
CREATED:20250619T101037Z
LAST-MODIFIED:20250619T102356Z
UID:10000060-1791626400-1791631800@democraticpartyofhcfl.org
SUMMARY:DEC Meeting
DESCRIPTION:
URL:https://democraticpartyofhcfl.org/event/dec-meeting/2026-10-10/
LOCATION:Highlands County Democratic Headquarters\, 4216 Sebring Pkwy\, Sebring\, FL\, 33870\, United States
END:VEVENT
BEGIN:VEVENT
DTSTART;TZID=America/Halifax:20261114T100000
DTEND;TZID=America/Halifax:20261114T113000
DTSTAMP:20260424T020636
CREATED:20250619T101037Z
LAST-MODIFIED:20250619T102356Z
UID:10000061-1794650400-1794655800@democraticpartyofhcfl.org
SUMMARY:DEC Meeting
DESCRIPTION:
URL:https://democraticpartyofhcfl.org/event/dec-meeting/2026-11-14/
LOCATION:Highlands County Democratic Headquarters\, 4216 Sebring Pkwy\, Sebring\, FL\, 33870\, United States
END:VEVENT
BEGIN:VEVENT
DTSTART;TZID=America/Halifax:20261212T100000
DTEND;TZID=America/Halifax:20261212T113000
DTSTAMP:20260424T020636
CREATED:20250619T101037Z
LAST-MODIFIED:20250619T102356Z
UID:10000062-1797069600-1797075000@democraticpartyofhcfl.org
SUMMARY:DEC Meeting
DESCRIPTION:
URL:https://democraticpartyofhcfl.org/event/dec-meeting/2026-12-12/
LOCATION:Highlands County Democratic Headquarters\, 4216 Sebring Pkwy\, Sebring\, FL\, 33870\, United States
END:VEVENT
BEGIN:VEVENT
DTSTART;TZID=America/Halifax:20270109T100000
DTEND;TZID=America/Halifax:20270109T113000
DTSTAMP:20260424T020636
CREATED:20250619T101037Z
LAST-MODIFIED:20250619T102356Z
UID:10000063-1799488800-1799494200@democraticpartyofhcfl.org
SUMMARY:DEC Meeting
DESCRIPTION:
URL:https://democraticpartyofhcfl.org/event/dec-meeting/2027-01-09/
LOCATION:Highlands County Democratic Headquarters\, 4216 Sebring Pkwy\, Sebring\, FL\, 33870\, United States
END:VEVENT
BEGIN:VEVENT
DTSTART;TZID=America/Halifax:20270213T100000
DTEND;TZID=America/Halifax:20270213T113000
DTSTAMP:20260424T020636
CREATED:20250619T101037Z
LAST-MODIFIED:20250619T102356Z
UID:10000064-1802512800-1802518200@democraticpartyofhcfl.org
SUMMARY:DEC Meeting
DESCRIPTION:
URL:https://democraticpartyofhcfl.org/event/dec-meeting/2027-02-13/
LOCATION:Highlands County Democratic Headquarters\, 4216 Sebring Pkwy\, Sebring\, FL\, 33870\, United States
END:VEVENT
BEGIN:VEVENT
DTSTART;TZID=America/Halifax:20270313T100000
DTEND;TZID=America/Halifax:20270313T113000
DTSTAMP:20260424T020636
CREATED:20250619T101037Z
LAST-MODIFIED:20250619T102356Z
UID:10000065-1804932000-1804937400@democraticpartyofhcfl.org
SUMMARY:DEC Meeting
DESCRIPTION:
URL:https://democraticpartyofhcfl.org/event/dec-meeting/2027-03-13/
LOCATION:Highlands County Democratic Headquarters\, 4216 Sebring Pkwy\, Sebring\, FL\, 33870\, United States
END:VEVENT
BEGIN:VEVENT
DTSTART;TZID=America/Halifax:20270410T100000
DTEND;TZID=America/Halifax:20270410T113000
DTSTAMP:20260424T020636
CREATED:20250619T101037Z
LAST-MODIFIED:20250619T102356Z
UID:10000066-1807351200-1807356600@democraticpartyofhcfl.org
SUMMARY:DEC Meeting
DESCRIPTION:
URL:https://democraticpartyofhcfl.org/event/dec-meeting/2027-04-10/
LOCATION:Highlands County Democratic Headquarters\, 4216 Sebring Pkwy\, Sebring\, FL\, 33870\, United States
END:VEVENT
BEGIN:VEVENT
DTSTART;TZID=America/Halifax:20270508T100000
DTEND;TZID=America/Halifax:20270508T113000
DTSTAMP:20260424T020636
CREATED:20250619T101037Z
LAST-MODIFIED:20250619T102356Z
UID:10000067-1809770400-1809775800@democraticpartyofhcfl.org
SUMMARY:DEC Meeting
DESCRIPTION:
URL:https://democraticpartyofhcfl.org/event/dec-meeting/2027-05-08/
LOCATION:Highlands County Democratic Headquarters\, 4216 Sebring Pkwy\, Sebring\, FL\, 33870\, United States
END:VEVENT
BEGIN:VEVENT
DTSTART;TZID=America/Halifax:20270612T100000
DTEND;TZID=America/Halifax:20270612T113000
DTSTAMP:20260424T020636
CREATED:20250619T101037Z
LAST-MODIFIED:20250619T102356Z
UID:10000068-1812794400-1812799800@democraticpartyofhcfl.org
SUMMARY:DEC Meeting
DESCRIPTION:
URL:https://democraticpartyofhcfl.org/event/dec-meeting/2027-06-12/
LOCATION:Highlands County Democratic Headquarters\, 4216 Sebring Pkwy\, Sebring\, FL\, 33870\, United States
END:VEVENT
BEGIN:VEVENT
DTSTART;TZID=America/Halifax:20270710T100000
DTEND;TZID=America/Halifax:20270710T113000
DTSTAMP:20260424T020636
CREATED:20250619T101037Z
LAST-MODIFIED:20250619T102356Z
UID:10000069-1815213600-1815219000@democraticpartyofhcfl.org
SUMMARY:DEC Meeting
DESCRIPTION:
URL:https://democraticpartyofhcfl.org/event/dec-meeting/2027-07-10/
LOCATION:Highlands County Democratic Headquarters\, 4216 Sebring Pkwy\, Sebring\, FL\, 33870\, United States
END:VEVENT
BEGIN:VEVENT
DTSTART;TZID=America/Halifax:20270814T100000
DTEND;TZID=America/Halifax:20270814T113000
DTSTAMP:20260424T020636
CREATED:20250619T101037Z
LAST-MODIFIED:20250619T102356Z
UID:10000070-1818237600-1818243000@democraticpartyofhcfl.org
SUMMARY:DEC Meeting
DESCRIPTION:
URL:https://democraticpartyofhcfl.org/event/dec-meeting/2027-08-14/
LOCATION:Highlands County Democratic Headquarters\, 4216 Sebring Pkwy\, Sebring\, FL\, 33870\, United States
END:VEVENT
BEGIN:VEVENT
DTSTART;TZID=America/Halifax:20270911T100000
DTEND;TZID=America/Halifax:20270911T113000
DTSTAMP:20260424T020636
CREATED:20250619T101037Z
LAST-MODIFIED:20250619T102356Z
UID:10000071-1820656800-1820662200@democraticpartyofhcfl.org
SUMMARY:DEC Meeting
DESCRIPTION:
URL:https://democraticpartyofhcfl.org/event/dec-meeting/2027-09-11/
LOCATION:Highlands County Democratic Headquarters\, 4216 Sebring Pkwy\, Sebring\, FL\, 33870\, United States
END:VEVENT
BEGIN:VEVENT
DTSTART;TZID=America/Halifax:20271009T100000
DTEND;TZID=America/Halifax:20271009T113000
DTSTAMP:20260424T020636
CREATED:20250619T101037Z
LAST-MODIFIED:20250619T102356Z
UID:10000072-1823076000-1823081400@democraticpartyofhcfl.org
SUMMARY:DEC Meeting
DESCRIPTION:
URL:https://democraticpartyofhcfl.org/event/dec-meeting/2027-10-09/
LOCATION:Highlands County Democratic Headquarters\, 4216 Sebring Pkwy\, Sebring\, FL\, 33870\, United States
END:VEVENT
BEGIN:VEVENT
DTSTART;TZID=America/Halifax:20271113T100000
DTEND;TZID=America/Halifax:20271113T113000
DTSTAMP:20260424T020636
CREATED:20250619T101037Z
LAST-MODIFIED:20250619T102356Z
UID:10000073-1826100000-1826105400@democraticpartyofhcfl.org
SUMMARY:DEC Meeting
DESCRIPTION:
URL:https://democraticpartyofhcfl.org/event/dec-meeting/2027-11-13/
LOCATION:Highlands County Democratic Headquarters\, 4216 Sebring Pkwy\, Sebring\, FL\, 33870\, United States
END:VEVENT
BEGIN:VEVENT
DTSTART;TZID=America/Halifax:20271211T100000
DTEND;TZID=America/Halifax:20271211T113000
DTSTAMP:20260424T020636
CREATED:20250619T101037Z
LAST-MODIFIED:20250619T102356Z
UID:10000074-1828519200-1828524600@democraticpartyofhcfl.org
SUMMARY:DEC Meeting
DESCRIPTION:
URL:https://democraticpartyofhcfl.org/event/dec-meeting/2027-12-11/
LOCATION:Highlands County Democratic Headquarters\, 4216 Sebring Pkwy\, Sebring\, FL\, 33870\, United States
END:VEVENT
BEGIN:VEVENT
DTSTART;TZID=America/Halifax:20280108T100000
DTEND;TZID=America/Halifax:20280108T113000
DTSTAMP:20260424T020636
CREATED:20250619T101037Z
LAST-MODIFIED:20250619T102356Z
UID:10000075-1830938400-1830943800@democraticpartyofhcfl.org
SUMMARY:DEC Meeting
DESCRIPTION:
URL:https://democraticpartyofhcfl.org/event/dec-meeting/2028-01-08/
LOCATION:Highlands County Democratic Headquarters\, 4216 Sebring Pkwy\, Sebring\, FL\, 33870\, United States
END:VEVENT
BEGIN:VEVENT
DTSTART;TZID=America/Halifax:20280212T100000
DTEND;TZID=America/Halifax:20280212T113000
DTSTAMP:20260424T020636
CREATED:20250619T101037Z
LAST-MODIFIED:20250619T102356Z
UID:10000076-1833962400-1833967800@democraticpartyofhcfl.org
SUMMARY:DEC Meeting
DESCRIPTION:
URL:https://democraticpartyofhcfl.org/event/dec-meeting/2028-02-12/
LOCATION:Highlands County Democratic Headquarters\, 4216 Sebring Pkwy\, Sebring\, FL\, 33870\, United States
END:VEVENT
BEGIN:VEVENT
DTSTART;TZID=America/Halifax:20280311T100000
DTEND;TZID=America/Halifax:20280311T113000
DTSTAMP:20260424T020636
CREATED:20250619T101037Z
LAST-MODIFIED:20250619T102356Z
UID:10000077-1836381600-1836387000@democraticpartyofhcfl.org
SUMMARY:DEC Meeting
DESCRIPTION:
URL:https://democraticpartyofhcfl.org/event/dec-meeting/2028-03-11/
LOCATION:Highlands County Democratic Headquarters\, 4216 Sebring Pkwy\, Sebring\, FL\, 33870\, United States
END:VEVENT
BEGIN:VEVENT
DTSTART;TZID=America/Halifax:20280408T100000
DTEND;TZID=America/Halifax:20280408T113000
DTSTAMP:20260424T020636
CREATED:20250619T101037Z
LAST-MODIFIED:20250619T102356Z
UID:10000078-1838800800-1838806200@democraticpartyofhcfl.org
SUMMARY:DEC Meeting
DESCRIPTION:
URL:https://democraticpartyofhcfl.org/event/dec-meeting/2028-04-08/
LOCATION:Highlands County Democratic Headquarters\, 4216 Sebring Pkwy\, Sebring\, FL\, 33870\, United States
END:VEVENT
BEGIN:VEVENT
DTSTART;TZID=America/Halifax:20280513T100000
DTEND;TZID=America/Halifax:20280513T113000
DTSTAMP:20260424T020636
CREATED:20250619T101037Z
LAST-MODIFIED:20250619T102356Z
UID:10000079-1841824800-1841830200@democraticpartyofhcfl.org
SUMMARY:DEC Meeting
DESCRIPTION:
URL:https://democraticpartyofhcfl.org/event/dec-meeting/2028-05-13/
LOCATION:Highlands County Democratic Headquarters\, 4216 Sebring Pkwy\, Sebring\, FL\, 33870\, United States
END:VEVENT
BEGIN:VEVENT
DTSTART;TZID=America/Halifax:20280610T100000
DTEND;TZID=America/Halifax:20280610T113000
DTSTAMP:20260424T020636
CREATED:20250619T101037Z
LAST-MODIFIED:20250619T102356Z
UID:10000080-1844244000-1844249400@democraticpartyofhcfl.org
SUMMARY:DEC Meeting
DESCRIPTION:
URL:https://democraticpartyofhcfl.org/event/dec-meeting/2028-06-10/
LOCATION:Highlands County Democratic Headquarters\, 4216 Sebring Pkwy\, Sebring\, FL\, 33870\, United States
END:VEVENT
BEGIN:VEVENT
DTSTART;TZID=America/Halifax:20280708T100000
DTEND;TZID=America/Halifax:20280708T113000
DTSTAMP:20260424T020636
CREATED:20250619T101037Z
LAST-MODIFIED:20250619T102356Z
UID:10000081-1846663200-1846668600@democraticpartyofhcfl.org
SUMMARY:DEC Meeting
DESCRIPTION:
URL:https://democraticpartyofhcfl.org/event/dec-meeting/2028-07-08/
LOCATION:Highlands County Democratic Headquarters\, 4216 Sebring Pkwy\, Sebring\, FL\, 33870\, United States
END:VEVENT
BEGIN:VEVENT
DTSTART;TZID=America/Halifax:20280812T100000
DTEND;TZID=America/Halifax:20280812T113000
DTSTAMP:20260424T020636
CREATED:20250619T101037Z
LAST-MODIFIED:20250619T102356Z
UID:10000082-1849687200-1849692600@democraticpartyofhcfl.org
SUMMARY:DEC Meeting
DESCRIPTION:
URL:https://democraticpartyofhcfl.org/event/dec-meeting/2028-08-12/
LOCATION:Highlands County Democratic Headquarters\, 4216 Sebring Pkwy\, Sebring\, FL\, 33870\, United States
END:VEVENT
BEGIN:VEVENT
DTSTART;TZID=America/Halifax:20280909T100000
DTEND;TZID=America/Halifax:20280909T113000
DTSTAMP:20260424T020636
CREATED:20250619T101037Z
LAST-MODIFIED:20250619T102356Z
UID:10000083-1852106400-1852111800@democraticpartyofhcfl.org
SUMMARY:DEC Meeting
DESCRIPTION:
URL:https://democraticpartyofhcfl.org/event/dec-meeting/2028-09-09/
LOCATION:Highlands County Democratic Headquarters\, 4216 Sebring Pkwy\, Sebring\, FL\, 33870\, United States
END:VEVENT
BEGIN:VEVENT
DTSTART;TZID=America/Halifax:20281014T100000
DTEND;TZID=America/Halifax:20281014T113000
DTSTAMP:20260424T020636
CREATED:20250619T101037Z
LAST-MODIFIED:20250619T102356Z
UID:10000084-1855130400-1855135800@democraticpartyofhcfl.org
SUMMARY:DEC Meeting
DESCRIPTION:
URL:https://democraticpartyofhcfl.org/event/dec-meeting/2028-10-14/
LOCATION:Highlands County Democratic Headquarters\, 4216 Sebring Pkwy\, Sebring\, FL\, 33870\, United States
END:VEVENT
END:VCALENDAR