BEGIN:VCALENDAR
VERSION:2.0
PRODID:-//Highlands County Democratic Executive Committee - ECPv6.15.20//NONSGML v1.0//EN
CALSCALE:GREGORIAN
METHOD:PUBLISH
X-WR-CALNAME:Highlands County Democratic Executive Committee
X-ORIGINAL-URL:https://democraticpartyofhcfl.org
X-WR-CALDESC:Events for Highlands County Democratic Executive Committee
REFRESH-INTERVAL;VALUE=DURATION:PT1H
X-Robots-Tag:noindex
X-PUBLISHED-TTL:PT1H
BEGIN:VTIMEZONE
TZID:America/Halifax
BEGIN:DAYLIGHT
TZOFFSETFROM:-0400
TZOFFSETTO:-0300
TZNAME:ADT
DTSTART:20250309T060000
END:DAYLIGHT
BEGIN:STANDARD
TZOFFSETFROM:-0300
TZOFFSETTO:-0400
TZNAME:AST
DTSTART:20251102T050000
END:STANDARD
BEGIN:DAYLIGHT
TZOFFSETFROM:-0400
TZOFFSETTO:-0300
TZNAME:ADT
DTSTART:20260308T060000
END:DAYLIGHT
BEGIN:STANDARD
TZOFFSETFROM:-0300
TZOFFSETTO:-0400
TZNAME:AST
DTSTART:20261101T050000
END:STANDARD
BEGIN:DAYLIGHT
TZOFFSETFROM:-0400
TZOFFSETTO:-0300
TZNAME:ADT
DTSTART:20270314T060000
END:DAYLIGHT
BEGIN:STANDARD
TZOFFSETFROM:-0300
TZOFFSETTO:-0400
TZNAME:AST
DTSTART:20271107T050000
END:STANDARD
BEGIN:DAYLIGHT
TZOFFSETFROM:-0400
TZOFFSETTO:-0300
TZNAME:ADT
DTSTART:20280312T060000
END:DAYLIGHT
BEGIN:STANDARD
TZOFFSETFROM:-0300
TZOFFSETTO:-0400
TZNAME:AST
DTSTART:20281105T050000
END:STANDARD
BEGIN:DAYLIGHT
TZOFFSETFROM:-0400
TZOFFSETTO:-0300
TZNAME:ADT
DTSTART:20290311T060000
END:DAYLIGHT
BEGIN:STANDARD
TZOFFSETFROM:-0300
TZOFFSETTO:-0400
TZNAME:AST
DTSTART:20291104T050000
END:STANDARD
END:VTIMEZONE
BEGIN:VEVENT
DTSTART;TZID=America/Halifax:20260425T093000
DTEND;TZID=America/Halifax:20260425T110000
DTSTAMP:20260424T020609
CREATED:20250619T102618Z
LAST-MODIFIED:20250705T205854Z
UID:10000175-1777109400-1777114800@democraticpartyofhcfl.org
SUMMARY:Democratic Woman's Club
DESCRIPTION:
URL:https://democraticpartyofhcfl.org/event/democratic-womans-club/2026-04-25/
END:VEVENT
BEGIN:VEVENT
DTSTART;TZID=America/Halifax:20260523T093000
DTEND;TZID=America/Halifax:20260523T110000
DTSTAMP:20260424T020609
CREATED:20250619T102618Z
LAST-MODIFIED:20250705T205854Z
UID:10000176-1779528600-1779534000@democraticpartyofhcfl.org
SUMMARY:Democratic Woman's Club
DESCRIPTION:
URL:https://democraticpartyofhcfl.org/event/democratic-womans-club/2026-05-23/
END:VEVENT
BEGIN:VEVENT
DTSTART;TZID=America/Halifax:20260627T093000
DTEND;TZID=America/Halifax:20260627T110000
DTSTAMP:20260424T020609
CREATED:20250619T102618Z
LAST-MODIFIED:20250705T205854Z
UID:10000177-1782552600-1782558000@democraticpartyofhcfl.org
SUMMARY:Democratic Woman's Club
DESCRIPTION:
URL:https://democraticpartyofhcfl.org/event/democratic-womans-club/2026-06-27/
END:VEVENT
BEGIN:VEVENT
DTSTART;TZID=America/Halifax:20260725T093000
DTEND;TZID=America/Halifax:20260725T110000
DTSTAMP:20260424T020609
CREATED:20250619T102618Z
LAST-MODIFIED:20250705T205854Z
UID:10000178-1784971800-1784977200@democraticpartyofhcfl.org
SUMMARY:Democratic Woman's Club
DESCRIPTION:
URL:https://democraticpartyofhcfl.org/event/democratic-womans-club/2026-07-25/
END:VEVENT
BEGIN:VEVENT
DTSTART;TZID=America/Halifax:20260822T093000
DTEND;TZID=America/Halifax:20260822T110000
DTSTAMP:20260424T020609
CREATED:20250619T102618Z
LAST-MODIFIED:20250705T205854Z
UID:10000179-1787391000-1787396400@democraticpartyofhcfl.org
SUMMARY:Democratic Woman's Club
DESCRIPTION:
URL:https://democraticpartyofhcfl.org/event/democratic-womans-club/2026-08-22/
END:VEVENT
BEGIN:VEVENT
DTSTART;TZID=America/Halifax:20260926T093000
DTEND;TZID=America/Halifax:20260926T110000
DTSTAMP:20260424T020609
CREATED:20250619T102618Z
LAST-MODIFIED:20250705T205854Z
UID:10000180-1790415000-1790420400@democraticpartyofhcfl.org
SUMMARY:Democratic Woman's Club
DESCRIPTION:
URL:https://democraticpartyofhcfl.org/event/democratic-womans-club/2026-09-26/
END:VEVENT
BEGIN:VEVENT
DTSTART;TZID=America/Halifax:20261024T093000
DTEND;TZID=America/Halifax:20261024T110000
DTSTAMP:20260424T020609
CREATED:20250619T102618Z
LAST-MODIFIED:20250705T205854Z
UID:10000181-1792834200-1792839600@democraticpartyofhcfl.org
SUMMARY:Democratic Woman's Club
DESCRIPTION:
URL:https://democraticpartyofhcfl.org/event/democratic-womans-club/2026-10-24/
END:VEVENT
BEGIN:VEVENT
DTSTART;TZID=America/Halifax:20261128T093000
DTEND;TZID=America/Halifax:20261128T110000
DTSTAMP:20260424T020609
CREATED:20250619T102618Z
LAST-MODIFIED:20250705T205854Z
UID:10000182-1795858200-1795863600@democraticpartyofhcfl.org
SUMMARY:Democratic Woman's Club
DESCRIPTION:
URL:https://democraticpartyofhcfl.org/event/democratic-womans-club/2026-11-28/
END:VEVENT
BEGIN:VEVENT
DTSTART;TZID=America/Halifax:20261226T093000
DTEND;TZID=America/Halifax:20261226T110000
DTSTAMP:20260424T020609
CREATED:20250619T102618Z
LAST-MODIFIED:20250705T205854Z
UID:10000183-1798277400-1798282800@democraticpartyofhcfl.org
SUMMARY:Democratic Woman's Club
DESCRIPTION:
URL:https://democraticpartyofhcfl.org/event/democratic-womans-club/2026-12-26/
END:VEVENT
BEGIN:VEVENT
DTSTART;TZID=America/Halifax:20270123T093000
DTEND;TZID=America/Halifax:20270123T110000
DTSTAMP:20260424T020609
CREATED:20250619T102618Z
LAST-MODIFIED:20250705T205854Z
UID:10000184-1800696600-1800702000@democraticpartyofhcfl.org
SUMMARY:Democratic Woman's Club
DESCRIPTION:
URL:https://democraticpartyofhcfl.org/event/democratic-womans-club/2027-01-23/
END:VEVENT
BEGIN:VEVENT
DTSTART;TZID=America/Halifax:20270227T093000
DTEND;TZID=America/Halifax:20270227T110000
DTSTAMP:20260424T020609
CREATED:20250619T102618Z
LAST-MODIFIED:20250705T205854Z
UID:10000185-1803720600-1803726000@democraticpartyofhcfl.org
SUMMARY:Democratic Woman's Club
DESCRIPTION:
URL:https://democraticpartyofhcfl.org/event/democratic-womans-club/2027-02-27/
END:VEVENT
BEGIN:VEVENT
DTSTART;TZID=America/Halifax:20270327T093000
DTEND;TZID=America/Halifax:20270327T110000
DTSTAMP:20260424T020609
CREATED:20250619T102618Z
LAST-MODIFIED:20250705T205854Z
UID:10000186-1806139800-1806145200@democraticpartyofhcfl.org
SUMMARY:Democratic Woman's Club
DESCRIPTION:
URL:https://democraticpartyofhcfl.org/event/democratic-womans-club/2027-03-27/
END:VEVENT
BEGIN:VEVENT
DTSTART;TZID=America/Halifax:20270424T093000
DTEND;TZID=America/Halifax:20270424T110000
DTSTAMP:20260424T020609
CREATED:20250619T102618Z
LAST-MODIFIED:20250705T205854Z
UID:10000187-1808559000-1808564400@democraticpartyofhcfl.org
SUMMARY:Democratic Woman's Club
DESCRIPTION:
URL:https://democraticpartyofhcfl.org/event/democratic-womans-club/2027-04-24/
END:VEVENT
BEGIN:VEVENT
DTSTART;TZID=America/Halifax:20270522T093000
DTEND;TZID=America/Halifax:20270522T110000
DTSTAMP:20260424T020609
CREATED:20250619T102618Z
LAST-MODIFIED:20250705T205854Z
UID:10000188-1810978200-1810983600@democraticpartyofhcfl.org
SUMMARY:Democratic Woman's Club
DESCRIPTION:
URL:https://democraticpartyofhcfl.org/event/democratic-womans-club/2027-05-22/
END:VEVENT
BEGIN:VEVENT
DTSTART;TZID=America/Halifax:20270626T093000
DTEND;TZID=America/Halifax:20270626T110000
DTSTAMP:20260424T020609
CREATED:20250619T102618Z
LAST-MODIFIED:20250705T205854Z
UID:10000189-1814002200-1814007600@democraticpartyofhcfl.org
SUMMARY:Democratic Woman's Club
DESCRIPTION:
URL:https://democraticpartyofhcfl.org/event/democratic-womans-club/2027-06-26/
END:VEVENT
BEGIN:VEVENT
DTSTART;TZID=America/Halifax:20270724T093000
DTEND;TZID=America/Halifax:20270724T110000
DTSTAMP:20260424T020609
CREATED:20250619T102618Z
LAST-MODIFIED:20250705T205854Z
UID:10000190-1816421400-1816426800@democraticpartyofhcfl.org
SUMMARY:Democratic Woman's Club
DESCRIPTION:
URL:https://democraticpartyofhcfl.org/event/democratic-womans-club/2027-07-24/
END:VEVENT
BEGIN:VEVENT
DTSTART;TZID=America/Halifax:20270828T093000
DTEND;TZID=America/Halifax:20270828T110000
DTSTAMP:20260424T020609
CREATED:20250619T102618Z
LAST-MODIFIED:20250705T205854Z
UID:10000191-1819445400-1819450800@democraticpartyofhcfl.org
SUMMARY:Democratic Woman's Club
DESCRIPTION:
URL:https://democraticpartyofhcfl.org/event/democratic-womans-club/2027-08-28/
END:VEVENT
BEGIN:VEVENT
DTSTART;TZID=America/Halifax:20270925T093000
DTEND;TZID=America/Halifax:20270925T110000
DTSTAMP:20260424T020609
CREATED:20250619T102618Z
LAST-MODIFIED:20250705T205854Z
UID:10000192-1821864600-1821870000@democraticpartyofhcfl.org
SUMMARY:Democratic Woman's Club
DESCRIPTION:
URL:https://democraticpartyofhcfl.org/event/democratic-womans-club/2027-09-25/
END:VEVENT
BEGIN:VEVENT
DTSTART;TZID=America/Halifax:20271023T093000
DTEND;TZID=America/Halifax:20271023T110000
DTSTAMP:20260424T020609
CREATED:20250619T102618Z
LAST-MODIFIED:20250705T205854Z
UID:10000193-1824283800-1824289200@democraticpartyofhcfl.org
SUMMARY:Democratic Woman's Club
DESCRIPTION:
URL:https://democraticpartyofhcfl.org/event/democratic-womans-club/2027-10-23/
END:VEVENT
BEGIN:VEVENT
DTSTART;TZID=America/Halifax:20271127T093000
DTEND;TZID=America/Halifax:20271127T110000
DTSTAMP:20260424T020609
CREATED:20250619T102618Z
LAST-MODIFIED:20250705T205854Z
UID:10000194-1827307800-1827313200@democraticpartyofhcfl.org
SUMMARY:Democratic Woman's Club
DESCRIPTION:
URL:https://democraticpartyofhcfl.org/event/democratic-womans-club/2027-11-27/
END:VEVENT
BEGIN:VEVENT
DTSTART;TZID=America/Halifax:20271225T093000
DTEND;TZID=America/Halifax:20271225T110000
DTSTAMP:20260424T020609
CREATED:20250619T102618Z
LAST-MODIFIED:20250705T205854Z
UID:10000195-1829727000-1829732400@democraticpartyofhcfl.org
SUMMARY:Democratic Woman's Club
DESCRIPTION:
URL:https://democraticpartyofhcfl.org/event/democratic-womans-club/2027-12-25/
END:VEVENT
BEGIN:VEVENT
DTSTART;TZID=America/Halifax:20280122T093000
DTEND;TZID=America/Halifax:20280122T110000
DTSTAMP:20260424T020609
CREATED:20250619T102618Z
LAST-MODIFIED:20250705T205854Z
UID:10000196-1832146200-1832151600@democraticpartyofhcfl.org
SUMMARY:Democratic Woman's Club
DESCRIPTION:
URL:https://democraticpartyofhcfl.org/event/democratic-womans-club/2028-01-22/
END:VEVENT
BEGIN:VEVENT
DTSTART;TZID=America/Halifax:20280226T093000
DTEND;TZID=America/Halifax:20280226T110000
DTSTAMP:20260424T020609
CREATED:20250619T102618Z
LAST-MODIFIED:20250705T205854Z
UID:10000197-1835170200-1835175600@democraticpartyofhcfl.org
SUMMARY:Democratic Woman's Club
DESCRIPTION:
URL:https://democraticpartyofhcfl.org/event/democratic-womans-club/2028-02-26/
END:VEVENT
BEGIN:VEVENT
DTSTART;TZID=America/Halifax:20280325T093000
DTEND;TZID=America/Halifax:20280325T110000
DTSTAMP:20260424T020609
CREATED:20250619T102618Z
LAST-MODIFIED:20250705T205854Z
UID:10000198-1837589400-1837594800@democraticpartyofhcfl.org
SUMMARY:Democratic Woman's Club
DESCRIPTION:
URL:https://democraticpartyofhcfl.org/event/democratic-womans-club/2028-03-25/
END:VEVENT
BEGIN:VEVENT
DTSTART;TZID=America/Halifax:20280422T093000
DTEND;TZID=America/Halifax:20280422T110000
DTSTAMP:20260424T020609
CREATED:20250619T102618Z
LAST-MODIFIED:20250705T205854Z
UID:10000199-1840008600-1840014000@democraticpartyofhcfl.org
SUMMARY:Democratic Woman's Club
DESCRIPTION:
URL:https://democraticpartyofhcfl.org/event/democratic-womans-club/2028-04-22/
END:VEVENT
BEGIN:VEVENT
DTSTART;TZID=America/Halifax:20280527T093000
DTEND;TZID=America/Halifax:20280527T110000
DTSTAMP:20260424T020609
CREATED:20250619T102618Z
LAST-MODIFIED:20250705T205854Z
UID:10000200-1843032600-1843038000@democraticpartyofhcfl.org
SUMMARY:Democratic Woman's Club
DESCRIPTION:
URL:https://democraticpartyofhcfl.org/event/democratic-womans-club/2028-05-27/
END:VEVENT
BEGIN:VEVENT
DTSTART;TZID=America/Halifax:20280624T093000
DTEND;TZID=America/Halifax:20280624T110000
DTSTAMP:20260424T020609
CREATED:20250619T102618Z
LAST-MODIFIED:20250705T205854Z
UID:10000201-1845451800-1845457200@democraticpartyofhcfl.org
SUMMARY:Democratic Woman's Club
DESCRIPTION:
URL:https://democraticpartyofhcfl.org/event/democratic-womans-club/2028-06-24/
END:VEVENT
BEGIN:VEVENT
DTSTART;TZID=America/Halifax:20280722T093000
DTEND;TZID=America/Halifax:20280722T110000
DTSTAMP:20260424T020609
CREATED:20250619T102618Z
LAST-MODIFIED:20250705T205854Z
UID:10000202-1847871000-1847876400@democraticpartyofhcfl.org
SUMMARY:Democratic Woman's Club
DESCRIPTION:
URL:https://democraticpartyofhcfl.org/event/democratic-womans-club/2028-07-22/
END:VEVENT
BEGIN:VEVENT
DTSTART;TZID=America/Halifax:20280826T093000
DTEND;TZID=America/Halifax:20280826T110000
DTSTAMP:20260424T020609
CREATED:20250619T102618Z
LAST-MODIFIED:20250705T205854Z
UID:10000203-1850895000-1850900400@democraticpartyofhcfl.org
SUMMARY:Democratic Woman's Club
DESCRIPTION:
URL:https://democraticpartyofhcfl.org/event/democratic-womans-club/2028-08-26/
END:VEVENT
BEGIN:VEVENT
DTSTART;TZID=America/Halifax:20280923T093000
DTEND;TZID=America/Halifax:20280923T110000
DTSTAMP:20260424T020609
CREATED:20250619T102618Z
LAST-MODIFIED:20250705T205854Z
UID:10000204-1853314200-1853319600@democraticpartyofhcfl.org
SUMMARY:Democratic Woman's Club
DESCRIPTION:
URL:https://democraticpartyofhcfl.org/event/democratic-womans-club/2028-09-23/
END:VEVENT
END:VCALENDAR