BEGIN:VCALENDAR
VERSION:2.0
PRODID:-//Highlands County Democratic Executive Committee - ECPv6.15.20//NONSGML v1.0//EN
CALSCALE:GREGORIAN
METHOD:PUBLISH
X-WR-CALNAME:Highlands County Democratic Executive Committee
X-ORIGINAL-URL:https://democraticpartyofhcfl.org
X-WR-CALDESC:Events for Highlands County Democratic Executive Committee
REFRESH-INTERVAL;VALUE=DURATION:PT1H
X-Robots-Tag:noindex
X-PUBLISHED-TTL:PT1H
BEGIN:VTIMEZONE
TZID:America/Halifax
BEGIN:DAYLIGHT
TZOFFSETFROM:-0400
TZOFFSETTO:-0300
TZNAME:ADT
DTSTART:20250309T060000
END:DAYLIGHT
BEGIN:STANDARD
TZOFFSETFROM:-0300
TZOFFSETTO:-0400
TZNAME:AST
DTSTART:20251102T050000
END:STANDARD
BEGIN:DAYLIGHT
TZOFFSETFROM:-0400
TZOFFSETTO:-0300
TZNAME:ADT
DTSTART:20260308T060000
END:DAYLIGHT
BEGIN:STANDARD
TZOFFSETFROM:-0300
TZOFFSETTO:-0400
TZNAME:AST
DTSTART:20261101T050000
END:STANDARD
BEGIN:DAYLIGHT
TZOFFSETFROM:-0400
TZOFFSETTO:-0300
TZNAME:ADT
DTSTART:20270314T060000
END:DAYLIGHT
BEGIN:STANDARD
TZOFFSETFROM:-0300
TZOFFSETTO:-0400
TZNAME:AST
DTSTART:20271107T050000
END:STANDARD
BEGIN:DAYLIGHT
TZOFFSETFROM:-0400
TZOFFSETTO:-0300
TZNAME:ADT
DTSTART:20280312T060000
END:DAYLIGHT
BEGIN:STANDARD
TZOFFSETFROM:-0300
TZOFFSETTO:-0400
TZNAME:AST
DTSTART:20281105T050000
END:STANDARD
BEGIN:DAYLIGHT
TZOFFSETFROM:-0400
TZOFFSETTO:-0300
TZNAME:ADT
DTSTART:20290311T060000
END:DAYLIGHT
BEGIN:STANDARD
TZOFFSETFROM:-0300
TZOFFSETTO:-0400
TZNAME:AST
DTSTART:20291104T050000
END:STANDARD
END:VTIMEZONE
BEGIN:VEVENT
DTSTART;TZID=America/Halifax:20260425T160000
DTEND;TZID=America/Halifax:20260425T180000
DTSTAMP:20260424T020825
CREATED:20260122T140302Z
LAST-MODIFIED:20260122T140302Z
UID:10000365-1777132800-1777140000@democraticpartyofhcfl.org
SUMMARY:Open House
DESCRIPTION:
URL:https://democraticpartyofhcfl.org/event/open-house/2026-04-25/
LOCATION:Highlands County Democratic Headquarters\, 4216 Sebring Pkwy\, Sebring\, FL\, 33870\, United States
CATEGORIES:Events
END:VEVENT
BEGIN:VEVENT
DTSTART;TZID=America/Halifax:20260523T160000
DTEND;TZID=America/Halifax:20260523T180000
DTSTAMP:20260424T020825
CREATED:20260122T140302Z
LAST-MODIFIED:20260122T140302Z
UID:10000366-1779552000-1779559200@democraticpartyofhcfl.org
SUMMARY:Open House
DESCRIPTION:
URL:https://democraticpartyofhcfl.org/event/open-house/2026-05-23/
LOCATION:Highlands County Democratic Headquarters\, 4216 Sebring Pkwy\, Sebring\, FL\, 33870\, United States
CATEGORIES:Events
END:VEVENT
BEGIN:VEVENT
DTSTART;TZID=America/Halifax:20260627T160000
DTEND;TZID=America/Halifax:20260627T180000
DTSTAMP:20260424T020825
CREATED:20260122T140302Z
LAST-MODIFIED:20260122T140302Z
UID:10000367-1782576000-1782583200@democraticpartyofhcfl.org
SUMMARY:Open House
DESCRIPTION:
URL:https://democraticpartyofhcfl.org/event/open-house/2026-06-27/
LOCATION:Highlands County Democratic Headquarters\, 4216 Sebring Pkwy\, Sebring\, FL\, 33870\, United States
CATEGORIES:Events
END:VEVENT
BEGIN:VEVENT
DTSTART;TZID=America/Halifax:20260725T160000
DTEND;TZID=America/Halifax:20260725T180000
DTSTAMP:20260424T020825
CREATED:20260122T140302Z
LAST-MODIFIED:20260122T140302Z
UID:10000368-1784995200-1785002400@democraticpartyofhcfl.org
SUMMARY:Open House
DESCRIPTION:
URL:https://democraticpartyofhcfl.org/event/open-house/2026-07-25/
LOCATION:Highlands County Democratic Headquarters\, 4216 Sebring Pkwy\, Sebring\, FL\, 33870\, United States
CATEGORIES:Events
END:VEVENT
BEGIN:VEVENT
DTSTART;TZID=America/Halifax:20260822T160000
DTEND;TZID=America/Halifax:20260822T180000
DTSTAMP:20260424T020825
CREATED:20260122T140302Z
LAST-MODIFIED:20260122T140302Z
UID:10000369-1787414400-1787421600@democraticpartyofhcfl.org
SUMMARY:Open House
DESCRIPTION:
URL:https://democraticpartyofhcfl.org/event/open-house/2026-08-22/
LOCATION:Highlands County Democratic Headquarters\, 4216 Sebring Pkwy\, Sebring\, FL\, 33870\, United States
CATEGORIES:Events
END:VEVENT
BEGIN:VEVENT
DTSTART;TZID=America/Halifax:20260926T160000
DTEND;TZID=America/Halifax:20260926T180000
DTSTAMP:20260424T020825
CREATED:20260122T140302Z
LAST-MODIFIED:20260122T140302Z
UID:10000370-1790438400-1790445600@democraticpartyofhcfl.org
SUMMARY:Open House
DESCRIPTION:
URL:https://democraticpartyofhcfl.org/event/open-house/2026-09-26/
LOCATION:Highlands County Democratic Headquarters\, 4216 Sebring Pkwy\, Sebring\, FL\, 33870\, United States
CATEGORIES:Events
END:VEVENT
BEGIN:VEVENT
DTSTART;TZID=America/Halifax:20261024T160000
DTEND;TZID=America/Halifax:20261024T180000
DTSTAMP:20260424T020825
CREATED:20260122T140302Z
LAST-MODIFIED:20260122T140302Z
UID:10000371-1792857600-1792864800@democraticpartyofhcfl.org
SUMMARY:Open House
DESCRIPTION:
URL:https://democraticpartyofhcfl.org/event/open-house/2026-10-24/
LOCATION:Highlands County Democratic Headquarters\, 4216 Sebring Pkwy\, Sebring\, FL\, 33870\, United States
CATEGORIES:Events
END:VEVENT
BEGIN:VEVENT
DTSTART;TZID=America/Halifax:20261128T160000
DTEND;TZID=America/Halifax:20261128T180000
DTSTAMP:20260424T020825
CREATED:20260122T140302Z
LAST-MODIFIED:20260122T140302Z
UID:10000372-1795881600-1795888800@democraticpartyofhcfl.org
SUMMARY:Open House
DESCRIPTION:
URL:https://democraticpartyofhcfl.org/event/open-house/2026-11-28/
LOCATION:Highlands County Democratic Headquarters\, 4216 Sebring Pkwy\, Sebring\, FL\, 33870\, United States
CATEGORIES:Events
END:VEVENT
BEGIN:VEVENT
DTSTART;TZID=America/Halifax:20261226T160000
DTEND;TZID=America/Halifax:20261226T180000
DTSTAMP:20260424T020825
CREATED:20260122T140302Z
LAST-MODIFIED:20260122T140302Z
UID:10000373-1798300800-1798308000@democraticpartyofhcfl.org
SUMMARY:Open House
DESCRIPTION:
URL:https://democraticpartyofhcfl.org/event/open-house/2026-12-26/
LOCATION:Highlands County Democratic Headquarters\, 4216 Sebring Pkwy\, Sebring\, FL\, 33870\, United States
CATEGORIES:Events
END:VEVENT
BEGIN:VEVENT
DTSTART;TZID=America/Halifax:20270123T160000
DTEND;TZID=America/Halifax:20270123T180000
DTSTAMP:20260424T020825
CREATED:20260122T140302Z
LAST-MODIFIED:20260122T140302Z
UID:10000374-1800720000-1800727200@democraticpartyofhcfl.org
SUMMARY:Open House
DESCRIPTION:
URL:https://democraticpartyofhcfl.org/event/open-house/2027-01-23/
LOCATION:Highlands County Democratic Headquarters\, 4216 Sebring Pkwy\, Sebring\, FL\, 33870\, United States
CATEGORIES:Events
END:VEVENT
BEGIN:VEVENT
DTSTART;TZID=America/Halifax:20270227T160000
DTEND;TZID=America/Halifax:20270227T180000
DTSTAMP:20260424T020825
CREATED:20260122T140302Z
LAST-MODIFIED:20260122T140302Z
UID:10000375-1803744000-1803751200@democraticpartyofhcfl.org
SUMMARY:Open House
DESCRIPTION:
URL:https://democraticpartyofhcfl.org/event/open-house/2027-02-27/
LOCATION:Highlands County Democratic Headquarters\, 4216 Sebring Pkwy\, Sebring\, FL\, 33870\, United States
CATEGORIES:Events
END:VEVENT
BEGIN:VEVENT
DTSTART;TZID=America/Halifax:20270327T160000
DTEND;TZID=America/Halifax:20270327T180000
DTSTAMP:20260424T020825
CREATED:20260122T140302Z
LAST-MODIFIED:20260122T140302Z
UID:10000376-1806163200-1806170400@democraticpartyofhcfl.org
SUMMARY:Open House
DESCRIPTION:
URL:https://democraticpartyofhcfl.org/event/open-house/2027-03-27/
LOCATION:Highlands County Democratic Headquarters\, 4216 Sebring Pkwy\, Sebring\, FL\, 33870\, United States
CATEGORIES:Events
END:VEVENT
BEGIN:VEVENT
DTSTART;TZID=America/Halifax:20270424T160000
DTEND;TZID=America/Halifax:20270424T180000
DTSTAMP:20260424T020825
CREATED:20260122T140302Z
LAST-MODIFIED:20260122T140302Z
UID:10000377-1808582400-1808589600@democraticpartyofhcfl.org
SUMMARY:Open House
DESCRIPTION:
URL:https://democraticpartyofhcfl.org/event/open-house/2027-04-24/
LOCATION:Highlands County Democratic Headquarters\, 4216 Sebring Pkwy\, Sebring\, FL\, 33870\, United States
CATEGORIES:Events
END:VEVENT
BEGIN:VEVENT
DTSTART;TZID=America/Halifax:20270522T160000
DTEND;TZID=America/Halifax:20270522T180000
DTSTAMP:20260424T020825
CREATED:20260122T140302Z
LAST-MODIFIED:20260122T140302Z
UID:10000378-1811001600-1811008800@democraticpartyofhcfl.org
SUMMARY:Open House
DESCRIPTION:
URL:https://democraticpartyofhcfl.org/event/open-house/2027-05-22/
LOCATION:Highlands County Democratic Headquarters\, 4216 Sebring Pkwy\, Sebring\, FL\, 33870\, United States
CATEGORIES:Events
END:VEVENT
BEGIN:VEVENT
DTSTART;TZID=America/Halifax:20270626T160000
DTEND;TZID=America/Halifax:20270626T180000
DTSTAMP:20260424T020825
CREATED:20260122T140302Z
LAST-MODIFIED:20260122T140302Z
UID:10000379-1814025600-1814032800@democraticpartyofhcfl.org
SUMMARY:Open House
DESCRIPTION:
URL:https://democraticpartyofhcfl.org/event/open-house/2027-06-26/
LOCATION:Highlands County Democratic Headquarters\, 4216 Sebring Pkwy\, Sebring\, FL\, 33870\, United States
CATEGORIES:Events
END:VEVENT
BEGIN:VEVENT
DTSTART;TZID=America/Halifax:20270724T160000
DTEND;TZID=America/Halifax:20270724T180000
DTSTAMP:20260424T020825
CREATED:20260122T140302Z
LAST-MODIFIED:20260122T140302Z
UID:10000380-1816444800-1816452000@democraticpartyofhcfl.org
SUMMARY:Open House
DESCRIPTION:
URL:https://democraticpartyofhcfl.org/event/open-house/2027-07-24/
LOCATION:Highlands County Democratic Headquarters\, 4216 Sebring Pkwy\, Sebring\, FL\, 33870\, United States
CATEGORIES:Events
END:VEVENT
BEGIN:VEVENT
DTSTART;TZID=America/Halifax:20270828T160000
DTEND;TZID=America/Halifax:20270828T180000
DTSTAMP:20260424T020825
CREATED:20260122T140302Z
LAST-MODIFIED:20260122T140302Z
UID:10000381-1819468800-1819476000@democraticpartyofhcfl.org
SUMMARY:Open House
DESCRIPTION:
URL:https://democraticpartyofhcfl.org/event/open-house/2027-08-28/
LOCATION:Highlands County Democratic Headquarters\, 4216 Sebring Pkwy\, Sebring\, FL\, 33870\, United States
CATEGORIES:Events
END:VEVENT
BEGIN:VEVENT
DTSTART;TZID=America/Halifax:20270925T160000
DTEND;TZID=America/Halifax:20270925T180000
DTSTAMP:20260424T020825
CREATED:20260122T140302Z
LAST-MODIFIED:20260122T140302Z
UID:10000382-1821888000-1821895200@democraticpartyofhcfl.org
SUMMARY:Open House
DESCRIPTION:
URL:https://democraticpartyofhcfl.org/event/open-house/2027-09-25/
LOCATION:Highlands County Democratic Headquarters\, 4216 Sebring Pkwy\, Sebring\, FL\, 33870\, United States
CATEGORIES:Events
END:VEVENT
BEGIN:VEVENT
DTSTART;TZID=America/Halifax:20271023T160000
DTEND;TZID=America/Halifax:20271023T180000
DTSTAMP:20260424T020825
CREATED:20260122T140302Z
LAST-MODIFIED:20260122T140302Z
UID:10000383-1824307200-1824314400@democraticpartyofhcfl.org
SUMMARY:Open House
DESCRIPTION:
URL:https://democraticpartyofhcfl.org/event/open-house/2027-10-23/
LOCATION:Highlands County Democratic Headquarters\, 4216 Sebring Pkwy\, Sebring\, FL\, 33870\, United States
CATEGORIES:Events
END:VEVENT
BEGIN:VEVENT
DTSTART;TZID=America/Halifax:20271127T160000
DTEND;TZID=America/Halifax:20271127T180000
DTSTAMP:20260424T020825
CREATED:20260122T140302Z
LAST-MODIFIED:20260122T140302Z
UID:10000384-1827331200-1827338400@democraticpartyofhcfl.org
SUMMARY:Open House
DESCRIPTION:
URL:https://democraticpartyofhcfl.org/event/open-house/2027-11-27/
LOCATION:Highlands County Democratic Headquarters\, 4216 Sebring Pkwy\, Sebring\, FL\, 33870\, United States
CATEGORIES:Events
END:VEVENT
BEGIN:VEVENT
DTSTART;TZID=America/Halifax:20271225T160000
DTEND;TZID=America/Halifax:20271225T180000
DTSTAMP:20260424T020825
CREATED:20260122T140302Z
LAST-MODIFIED:20260122T140302Z
UID:10000385-1829750400-1829757600@democraticpartyofhcfl.org
SUMMARY:Open House
DESCRIPTION:
URL:https://democraticpartyofhcfl.org/event/open-house/2027-12-25/
LOCATION:Highlands County Democratic Headquarters\, 4216 Sebring Pkwy\, Sebring\, FL\, 33870\, United States
CATEGORIES:Events
END:VEVENT
BEGIN:VEVENT
DTSTART;TZID=America/Halifax:20280122T160000
DTEND;TZID=America/Halifax:20280122T180000
DTSTAMP:20260424T020825
CREATED:20260122T140302Z
LAST-MODIFIED:20260122T140302Z
UID:10000386-1832169600-1832176800@democraticpartyofhcfl.org
SUMMARY:Open House
DESCRIPTION:
URL:https://democraticpartyofhcfl.org/event/open-house/2028-01-22/
LOCATION:Highlands County Democratic Headquarters\, 4216 Sebring Pkwy\, Sebring\, FL\, 33870\, United States
CATEGORIES:Events
END:VEVENT
BEGIN:VEVENT
DTSTART;TZID=America/Halifax:20280226T160000
DTEND;TZID=America/Halifax:20280226T180000
DTSTAMP:20260424T020825
CREATED:20260122T140302Z
LAST-MODIFIED:20260122T140302Z
UID:10000387-1835193600-1835200800@democraticpartyofhcfl.org
SUMMARY:Open House
DESCRIPTION:
URL:https://democraticpartyofhcfl.org/event/open-house/2028-02-26/
LOCATION:Highlands County Democratic Headquarters\, 4216 Sebring Pkwy\, Sebring\, FL\, 33870\, United States
CATEGORIES:Events
END:VEVENT
BEGIN:VEVENT
DTSTART;TZID=America/Halifax:20280325T160000
DTEND;TZID=America/Halifax:20280325T180000
DTSTAMP:20260424T020825
CREATED:20260122T140302Z
LAST-MODIFIED:20260122T140302Z
UID:10000388-1837612800-1837620000@democraticpartyofhcfl.org
SUMMARY:Open House
DESCRIPTION:
URL:https://democraticpartyofhcfl.org/event/open-house/2028-03-25/
LOCATION:Highlands County Democratic Headquarters\, 4216 Sebring Pkwy\, Sebring\, FL\, 33870\, United States
CATEGORIES:Events
END:VEVENT
BEGIN:VEVENT
DTSTART;TZID=America/Halifax:20280422T160000
DTEND;TZID=America/Halifax:20280422T180000
DTSTAMP:20260424T020825
CREATED:20260122T140302Z
LAST-MODIFIED:20260122T140302Z
UID:10000389-1840032000-1840039200@democraticpartyofhcfl.org
SUMMARY:Open House
DESCRIPTION:
URL:https://democraticpartyofhcfl.org/event/open-house/2028-04-22/
LOCATION:Highlands County Democratic Headquarters\, 4216 Sebring Pkwy\, Sebring\, FL\, 33870\, United States
CATEGORIES:Events
END:VEVENT
BEGIN:VEVENT
DTSTART;TZID=America/Halifax:20280527T160000
DTEND;TZID=America/Halifax:20280527T180000
DTSTAMP:20260424T020825
CREATED:20260122T140302Z
LAST-MODIFIED:20260122T140302Z
UID:10000390-1843056000-1843063200@democraticpartyofhcfl.org
SUMMARY:Open House
DESCRIPTION:
URL:https://democraticpartyofhcfl.org/event/open-house/2028-05-27/
LOCATION:Highlands County Democratic Headquarters\, 4216 Sebring Pkwy\, Sebring\, FL\, 33870\, United States
CATEGORIES:Events
END:VEVENT
BEGIN:VEVENT
DTSTART;TZID=America/Halifax:20280624T160000
DTEND;TZID=America/Halifax:20280624T180000
DTSTAMP:20260424T020825
CREATED:20260122T140302Z
LAST-MODIFIED:20260122T140302Z
UID:10000391-1845475200-1845482400@democraticpartyofhcfl.org
SUMMARY:Open House
DESCRIPTION:
URL:https://democraticpartyofhcfl.org/event/open-house/2028-06-24/
LOCATION:Highlands County Democratic Headquarters\, 4216 Sebring Pkwy\, Sebring\, FL\, 33870\, United States
CATEGORIES:Events
END:VEVENT
BEGIN:VEVENT
DTSTART;TZID=America/Halifax:20280722T160000
DTEND;TZID=America/Halifax:20280722T180000
DTSTAMP:20260424T020825
CREATED:20260122T140302Z
LAST-MODIFIED:20260122T140302Z
UID:10000392-1847894400-1847901600@democraticpartyofhcfl.org
SUMMARY:Open House
DESCRIPTION:
URL:https://democraticpartyofhcfl.org/event/open-house/2028-07-22/
LOCATION:Highlands County Democratic Headquarters\, 4216 Sebring Pkwy\, Sebring\, FL\, 33870\, United States
CATEGORIES:Events
END:VEVENT
BEGIN:VEVENT
DTSTART;TZID=America/Halifax:20280826T160000
DTEND;TZID=America/Halifax:20280826T180000
DTSTAMP:20260424T020825
CREATED:20260122T140302Z
LAST-MODIFIED:20260122T140302Z
UID:10000393-1850918400-1850925600@democraticpartyofhcfl.org
SUMMARY:Open House
DESCRIPTION:
URL:https://democraticpartyofhcfl.org/event/open-house/2028-08-26/
LOCATION:Highlands County Democratic Headquarters\, 4216 Sebring Pkwy\, Sebring\, FL\, 33870\, United States
CATEGORIES:Events
END:VEVENT
BEGIN:VEVENT
DTSTART;TZID=America/Halifax:20280923T160000
DTEND;TZID=America/Halifax:20280923T180000
DTSTAMP:20260424T020825
CREATED:20260122T140302Z
LAST-MODIFIED:20260122T140302Z
UID:10000394-1853337600-1853344800@democraticpartyofhcfl.org
SUMMARY:Open House
DESCRIPTION:
URL:https://democraticpartyofhcfl.org/event/open-house/2028-09-23/
LOCATION:Highlands County Democratic Headquarters\, 4216 Sebring Pkwy\, Sebring\, FL\, 33870\, United States
CATEGORIES:Events
END:VEVENT
END:VCALENDAR